BEGIN:VCALENDAR
VERSION:2.0
PRODID:-//BADE Institute - ECPv6.12.0.1//NONSGML v1.0//EN
CALSCALE:GREGORIAN
METHOD:PUBLISH
X-WR-CALNAME:BADE Institute
X-ORIGINAL-URL:https://www.badeinstitute.com
X-WR-CALDESC:BADE Institute için etkinlikler
REFRESH-INTERVAL;VALUE=DURATION:PT1H
X-Robots-Tag:noindex
X-PUBLISHED-TTL:PT1H
BEGIN:VTIMEZONE
TZID:UTC
BEGIN:STANDARD
TZOFFSETFROM:+0000
TZOFFSETTO:+0000
TZNAME:UTC
DTSTART:20240101T000000
END:STANDARD
END:VTIMEZONE
BEGIN:VTIMEZONE
TZID:Europe/Istanbul
BEGIN:STANDARD
TZOFFSETFROM:+0300
TZOFFSETTO:+0300
TZNAME:+03
DTSTART:20250101T000000
END:STANDARD
END:VTIMEZONE
BEGIN:VEVENT
DTSTART;TZID=UTC:20250629T080000
DTEND;TZID=UTC:20250629T170000
DTSTAMP:20260425T160155
CREATED:20250430T060850Z
LAST-MODIFIED:20250430T175408Z
UID:346-1751184000-1751216400@www.badeinstitute.com
SUMMARY:AMOS ile YEM Eğitimi
DESCRIPTION:Sed ut perspiciatis unde omnis iste natus error sit voluptatem accusantium doloremque laudantium\, totam rem aperiam\, eaque ipsa quae ab illo. \nSed ut perspiciatis unde omnis iste natus error sit voluptatem accusantium doloremque laudantium\, totam rem aperiam\, eaque ipsa quae ab illo inventore veritatis et quasi architecto beatae vitae dicta sunt explicabo. Nemo enim ipsam voluptatem quia voluptas sit aspernatur aut odit aut fugit\, sed quia consequuntur magni dolores eos qui ratione voluptatem sequi nesciunt.
URL:https://www.badeinstitute.com/egitim/festival-of-architecture-interior/
LOCATION:Online Eğitim\, Turkey
ATTACH;FMTTYPE=image/jpeg:https://www.badeinstitute.com/wp-content/uploads/2025/04/pexels-cottonbro-4098152-scaled.jpg
ORGANIZER;CN="Gary Jones":MAILTO:events@example.com
END:VEVENT
BEGIN:VEVENT
DTSTART;TZID=UTC:20250619T080000
DTEND;TZID=UTC:20250619T170000
DTSTAMP:20260425T160155
CREATED:20240612T051947Z
LAST-MODIFIED:20240612T051947Z
UID:342-1750320000-1750352400@www.badeinstitute.com
SUMMARY:Architecture Week
DESCRIPTION:Sed ut perspiciatis unde omnis iste natus error sit voluptatem accusantium doloremque laudantium\, totam rem aperiam\, eaque ipsa quae ab illo. \nSed ut perspiciatis unde omnis iste natus error sit voluptatem accusantium doloremque laudantium\, totam rem aperiam\, eaque ipsa quae ab illo inventore veritatis et quasi architecto beatae vitae dicta sunt explicabo. Nemo enim ipsam voluptatem quia voluptas sit aspernatur aut odit aut fugit\, sed quia consequuntur magni dolores eos qui ratione voluptatem sequi nesciunt.
URL:https://www.badeinstitute.com/egitim/architecture-week/
LOCATION:Online Eğitim\, Turkey
ATTACH;FMTTYPE=image/jpeg:https://www.badeinstitute.com/wp-content/uploads/2024/05/blog-04.jpg
ORGANIZER;CN="Gary Jones":MAILTO:events@example.com
END:VEVENT
BEGIN:VEVENT
DTSTART;TZID=UTC:20250612T080000
DTEND;TZID=UTC:20250612T170000
DTSTAMP:20260425T160155
CREATED:20240612T051718Z
LAST-MODIFIED:20240612T051718Z
UID:339-1749715200-1749747600@www.badeinstitute.com
SUMMARY:International Architecture 2024
DESCRIPTION:Sed ut perspiciatis unde omnis iste natus error sit voluptatem accusantium doloremque laudantium\, totam rem aperiam\, eaque ipsa quae ab illo. \nSed ut perspiciatis unde omnis iste natus error sit voluptatem accusantium doloremque laudantium\, totam rem aperiam\, eaque ipsa quae ab illo inventore veritatis et quasi architecto beatae vitae dicta sunt explicabo. Nemo enim ipsam voluptatem quia voluptas sit aspernatur aut odit aut fugit\, sed quia consequuntur magni dolores eos qui ratione voluptatem sequi nesciunt.
URL:https://www.badeinstitute.com/egitim/international-architecture-2024/
LOCATION:Online Eğitim\, Turkey
CATEGORIES:Seminars
ATTACH;FMTTYPE=image/jpeg:https://www.badeinstitute.com/wp-content/uploads/2024/05/blog-08.jpg
ORGANIZER;CN="Gary Jones":MAILTO:events@example.com
END:VEVENT
BEGIN:VEVENT
DTSTART;TZID=UTC:20250605T080000
DTEND;TZID=UTC:20250605T170000
DTSTAMP:20260425T160155
CREATED:20240612T051856Z
LAST-MODIFIED:20240612T051856Z
UID:341-1749110400-1749142800@www.badeinstitute.com
SUMMARY:Designing Club Culture
DESCRIPTION:Sed ut perspiciatis unde omnis iste natus error sit voluptatem accusantium doloremque laudantium\, totam rem aperiam\, eaque ipsa quae ab illo. \nSed ut perspiciatis unde omnis iste natus error sit voluptatem accusantium doloremque laudantium\, totam rem aperiam\, eaque ipsa quae ab illo inventore veritatis et quasi architecto beatae vitae dicta sunt explicabo. Nemo enim ipsam voluptatem quia voluptas sit aspernatur aut odit aut fugit\, sed quia consequuntur magni dolores eos qui ratione voluptatem sequi nesciunt.
URL:https://www.badeinstitute.com/egitim/designing-club-culture/
LOCATION:Online Eğitim\, Turkey
CATEGORIES:Seminars
ATTACH;FMTTYPE=image/jpeg:https://www.badeinstitute.com/wp-content/uploads/2024/05/blog-03.jpg
ORGANIZER;CN="Gary Jones":MAILTO:events@example.com
END:VEVENT
BEGIN:VEVENT
DTSTART;TZID=UTC:20250602T080000
DTEND;TZID=UTC:20250602T170000
DTSTAMP:20260425T160155
CREATED:20240612T051808Z
LAST-MODIFIED:20240612T051808Z
UID:340-1748851200-1748883600@www.badeinstitute.com
SUMMARY:Architecture Club meetup
DESCRIPTION:Sed ut perspiciatis unde omnis iste natus error sit voluptatem accusantium doloremque laudantium\, totam rem aperiam\, eaque ipsa quae ab illo. \nSed ut perspiciatis unde omnis iste natus error sit voluptatem accusantium doloremque laudantium\, totam rem aperiam\, eaque ipsa quae ab illo inventore veritatis et quasi architecto beatae vitae dicta sunt explicabo. Nemo enim ipsam voluptatem quia voluptas sit aspernatur aut odit aut fugit\, sed quia consequuntur magni dolores eos qui ratione voluptatem sequi nesciunt.
URL:https://www.badeinstitute.com/egitim/architecture-club-meetup/
LOCATION:Online Eğitim\, Turkey
CATEGORIES:Seminars
ATTACH;FMTTYPE=image/jpeg:https://www.badeinstitute.com/wp-content/uploads/2024/05/blog-01.jpg
ORGANIZER;CN="Gary Jones":MAILTO:events@example.com
END:VEVENT
BEGIN:VEVENT
DTSTART;TZID=Europe/Istanbul:20250524T080000
DTEND;TZID=Europe/Istanbul:20250525T170000
DTSTAMP:20260425T160155
CREATED:20250510T161339Z
LAST-MODIFIED:20250510T161845Z
UID:1434-1748073600-1748192400@www.badeinstitute.com
SUMMARY:Yapısal Eşitlik Modeli Eğitimi
DESCRIPTION:
URL:https://www.badeinstitute.com/egitim/analizler-nitel-veri-analizi/
LOCATION:Online Eğitim\, Turkey
ATTACH;FMTTYPE=image/png:https://www.badeinstitute.com/wp-content/uploads/2024/05/Baaa.png
ORGANIZER;CN="Prof. Dr. Seydi Ahmet SATICI":MAILTO:ahmet.satici@yildiz.edu.tr
END:VEVENT
BEGIN:VEVENT
DTSTART;TZID=Europe/Istanbul:20250430T080000
DTEND;TZID=Europe/Istanbul:20250430T170000
DTSTAMP:20260425T160155
CREATED:20250430T181615Z
LAST-MODIFIED:20250430T181615Z
UID:676-1746000000-1746032400@www.badeinstitute.com
SUMMARY:dsadsadas
DESCRIPTION:dsadsadsa
URL:https://www.badeinstitute.com/egitim/dsadsadas/
ATTACH;FMTTYPE=image/jpeg:https://www.badeinstitute.com/wp-content/uploads/2025/04/pexels-cottonbro-4098152-scaled.jpg
END:VEVENT
BEGIN:VEVENT
DTSTART;TZID=Europe/Istanbul:20250430T080000
DTEND;TZID=Europe/Istanbul:20250430T170000
DTSTAMP:20260425T160155
CREATED:20250430T181227Z
LAST-MODIFIED:20250430T181302Z
UID:674-1746000000-1746032400@www.badeinstitute.com
SUMMARY:dsadsadsa
DESCRIPTION:dsadsadsadsa
URL:https://www.badeinstitute.com/egitim/dsadsadsa/
ATTACH;FMTTYPE=image/jpeg:https://www.badeinstitute.com/wp-content/uploads/2025/04/pexels-cottonbro-4098152-scaled.jpg
END:VEVENT
BEGIN:VEVENT
DTSTART;TZID=UTC:20240622T080000
DTEND;TZID=UTC:20240622T170000
DTSTAMP:20260425T160155
CREATED:20240612T052030Z
LAST-MODIFIED:20250429T074534Z
UID:343-1719043200-1719075600@www.badeinstitute.com
SUMMARY:Nairobi Design Week
DESCRIPTION:Sed ut perspiciatis unde omnis iste natus error sit voluptatem accusantium doloremque laudantium\, totam rem aperiam\, eaque ipsa quae ab illo.\n\nSed ut perspiciatis unde omnis iste natus error sit voluptatem accusantium doloremque laudantium\, totam rem aperiam\, eaque ipsa quae ab illo inventore veritatis et quasi architecto beatae vitae dicta sunt explicabo. Nemo enim ipsam voluptatem quia voluptas sit aspernatur aut odit aut fugit\, sed quia consequuntur magni dolores eos qui ratione voluptatem sequi nesciunt.
URL:https://www.badeinstitute.com/egitim/nairobi-design-week/
LOCATION:Online Eğitim\, Turkey
CATEGORIES:Seminars
ATTACH;FMTTYPE=image/jpeg:https://www.badeinstitute.com/wp-content/uploads/2024/05/blog-02.jpg
ORGANIZER;CN="Gary Jones":MAILTO:events@example.com
END:VEVENT
END:VCALENDAR